BEGIN:VCALENDAR
VERSION:2.0
PRODID:hinto.net
X-PUBLISHED-TTL:P1W
BEGIN:VEVENT
UID:hinto.net-event_show-6540016
DTSTART:20270313T200000
SEQUENCE:0
CREATED:20251218T050446
LAST-MODIFIED:20251218T050446
TRANSP:OPAQUE
DTEND:20270313T000000
LOCATION:Festhalle
SUMMARY:Ralf Schmitz – Schmitzmän
CLASS:PUBLIC
DESCRIPTION:
ORGANIZER:
DTSTAMP:20260424T093733
ATTACH:https://www.hinto.ch/de/events/ralf-schmitz-n-schmitzmaen-13-03-2027-2000-festhalle-bern-e2527012-20.html
END:VEVENT
END:VCALENDAR
