BEGIN:VCALENDAR
VERSION:2.0
PRODID:hinto.net
X-PUBLISHED-TTL:P1W
BEGIN:VEVENT
UID:hinto.net-event_show-6734053
DTSTART:20260422T200000
SEQUENCE:0
CREATED:20260220T074604
LAST-MODIFIED:20260220T074604
TRANSP:OPAQUE
DTEND:20260422T223000
LOCATION:Theater Uri
SUMMARY:Reeto von Gunten
CLASS:PUBLIC
DESCRIPTION:
ORGANIZER:
DTSTAMP:20260421T102719
ATTACH:https://www.hinto.ch/de/events/reeto-von-gunten-22-04-2026-2000-theater-uri-altdorf-ur-e2695011-20.html
END:VEVENT
END:VCALENDAR
