BEGIN:VCALENDAR
VERSION:2.0
PRODID:hinto.net
X-PUBLISHED-TTL:P1W
BEGIN:VEVENT
UID:hinto.net-event_show-6728835
DTSTART:20260509T193000
SEQUENCE:0
CREATED:20260219T042112
LAST-MODIFIED:20260219T042112
TRANSP:OPAQUE

LOCATION:Neumünster Kirche
SUMMARY:Rhapsodie
CLASS:PUBLIC
DESCRIPTION:
ORGANIZER:
DTSTAMP:20260424T143616
ATTACH:https://www.hinto.ch/de/events/rhapsodie-09-05-2026-1930-neumuenster-kirche-zuerich-e2691697-20.html
END:VEVENT
END:VCALENDAR
