BEGIN:VCALENDAR
VERSION:2.0
PRODID:hinto.net
X-PUBLISHED-TTL:P1W
BEGIN:VEVENT
UID:hinto.net-event_show-6718029
DTSTART:20260607T100000
SEQUENCE:0
CREATED:20260215T072240
LAST-MODIFIED:20260215T072240
TRANSP:OPAQUE
DTEND:20260607T170000
LOCATION:Legionärspfad Vindonissa
SUMMARY:Römertag Vindonissa
CLASS:PUBLIC
DESCRIPTION:
ORGANIZER:
DTSTAMP:20260419T232421
ATTACH:https://www.hinto.ch/de/events/roemertag-vindonissa-07-06-2026-1000-legionaerspfad-vindonissa-windisch-e2681879-20.html
END:VEVENT
END:VCALENDAR
