BEGIN:VCALENDAR
VERSION:2.0
PRODID:hinto.net
X-PUBLISHED-TTL:P1W
BEGIN:VEVENT
UID:hinto.net-event_show-6644333
DTSTART:20260718T200000
SEQUENCE:0
CREATED:20260121T085915
LAST-MODIFIED:20260121T085915
TRANSP:OPAQUE
DTEND:20260718T230000
LOCATION:Schiffsteg Bürkliplatz
SUMMARY:Rompe-Schiff
CLASS:PUBLIC
DESCRIPTION:
ORGANIZER:
DTSTAMP:20260424T135347
ATTACH:https://www.hinto.ch/de/events/rompe-schiff-18-07-2026-2000-schiffsteg-buerkliplatz-zuerich-e2616862-20.html
END:VEVENT
END:VCALENDAR
