BEGIN:VCALENDAR
VERSION:2.0
PRODID:hinto.net
X-PUBLISHED-TTL:P1W
BEGIN:VEVENT
UID:hinto.net-event_show-6862905
DTSTART:20260419T154500
SEQUENCE:0
CREATED:20260329T151452
LAST-MODIFIED:20260329T151452
TRANSP:OPAQUE
DTEND:20260419T174500
LOCATION:
SUMMARY:RTL: Die Beet-Brüder
CLASS:PUBLIC
DESCRIPTION:
ORGANIZER:
DTSTAMP:20260419T205720
ATTACH:https://www.hinto.ch/de/events/rtl-die-beet-brueder-19-04-2026-1545-e2793521-20.html
END:VEVENT
END:VCALENDAR
