BEGIN:VCALENDAR
VERSION:2.0
PRODID:hinto.net
X-PUBLISHED-TTL:P1W
BEGIN:VEVENT
UID:hinto.net-event_show-6919426
DTSTART:20260419T151500
SEQUENCE:0
CREATED:20260417T042408
LAST-MODIFIED:20260417T042408
TRANSP:OPAQUE
DTEND:20260419T160047
LOCATION:
SUMMARY:RTS 1: Grantchester
CLASS:PUBLIC
DESCRIPTION:
ORGANIZER:
DTSTAMP:20260420T010508
ATTACH:https://www.hinto.ch/de/events/rts-1-grantchester-19-04-2026-1515-e2842383-20.html
END:VEVENT
END:VCALENDAR
