BEGIN:VCALENDAR
VERSION:2.0
PRODID:hinto.net
X-PUBLISHED-TTL:P1W
BEGIN:VEVENT
UID:hinto.net-event_show-6862631
DTSTART:20260419T192000
SEQUENCE:0
CREATED:20260329T150000
LAST-MODIFIED:20260329T150000
TRANSP:OPAQUE
DTEND:20260419T192130
LOCATION:
SUMMARY:RTS 1: Météo
CLASS:PUBLIC
DESCRIPTION:
ORGANIZER:
DTSTAMP:20260420T090520
ATTACH:https://www.hinto.ch/de/events/rts-1-meteo-19-04-2026-1920-e2793247-20.html
END:VEVENT
END:VCALENDAR
