BEGIN:VCALENDAR
VERSION:2.0
PRODID:hinto.net
X-PUBLISHED-TTL:P1W
BEGIN:VEVENT
UID:hinto.net-event_show-6925085
DTSTART:20260502T200000
SEQUENCE:0
CREATED:20260419T051947
LAST-MODIFIED:20260419T051947
TRANSP:OPAQUE
DTEND:20260502T230000
LOCATION:INDUSTRIE36
SUMMARY:SaitenZauber: Trio Anderscht & Trio Balkan Strings
CLASS:PUBLIC
DESCRIPTION:
ORGANIZER:
DTSTAMP:20260421T063143
ATTACH:https://www.hinto.ch/de/events/saitenzauber-trio-anderscht-trio-balkan-strings-02-05-2026-2000-industrie36-rorschach-e2847279-20.html
END:VEVENT
END:VCALENDAR
