BEGIN:VCALENDAR
VERSION:2.0
PRODID:hinto.net
X-PUBLISHED-TTL:P1W
BEGIN:VEVENT
UID:hinto.net-event_show-6925289
DTSTART:20260613T140000
SEQUENCE:0
CREATED:20260419T052115
LAST-MODIFIED:20260419T052115
TRANSP:OPAQUE

LOCATION:Quartiertreff Rote Fabrik
SUMMARY:Silent Reading Rave
CLASS:PUBLIC
DESCRIPTION:
ORGANIZER:
DTSTAMP:20260421T093632
ATTACH:https://www.hinto.ch/de/events/silent-reading-rave-13-06-2026-1400-quartiertreff-rote-fabrik-zuerich-e2847383-20.html
END:VEVENT
END:VCALENDAR
