BEGIN:VCALENDAR
VERSION:2.0
PRODID:hinto.net
X-PUBLISHED-TTL:P1W
BEGIN:VEVENT
UID:hinto.net-event_show-6871129
DTSTART:20270408T200000
SEQUENCE:0
CREATED:20260401T054205
LAST-MODIFIED:20260401T054205
TRANSP:OPAQUE
DTEND:20270408T222000
LOCATION:Tonhalle Wil
SUMMARY:Simon Enzler
CLASS:PUBLIC
DESCRIPTION:
ORGANIZER:
DTSTAMP:20260420T194019
ATTACH:https://www.hinto.ch/de/events/simon-enzler-08-04-2027-2000-tonhalle-wil-wil-sg-e2799542-20.html
END:VEVENT
END:VCALENDAR
