BEGIN:VCALENDAR
VERSION:2.0
PRODID:hinto.net
X-PUBLISHED-TTL:P1W
BEGIN:VEVENT
UID:hinto.net-event_show-6307171
DTSTART:20260508T200000
SEQUENCE:0
CREATED:20251001T113102
LAST-MODIFIED:20251001T113102
TRANSP:OPAQUE
DTEND:20260508T222000
LOCATION:Kulturzentrum Braui
SUMMARY:Simon Enzler
CLASS:PUBLIC
DESCRIPTION:
ORGANIZER:
DTSTAMP:20260421T091741
ATTACH:https://www.hinto.ch/de/events/simon-enzler-08-05-2026-2000-kulturzentrum-braui-hochdorf-e2326177-20.html
END:VEVENT
END:VCALENDAR
