BEGIN:VCALENDAR
VERSION:2.0
PRODID:hinto.net
X-PUBLISHED-TTL:P1W
BEGIN:VEVENT
UID:hinto.net-event_show-6925482
DTSTART:20260531T150000
SEQUENCE:0
CREATED:20260419T052233
LAST-MODIFIED:20260419T052233
TRANSP:OPAQUE

LOCATION:Küefer-Martis-Huus
SUMMARY:Smartphone Finger Massage
CLASS:PUBLIC
DESCRIPTION:
ORGANIZER:
DTSTAMP:20260421T084848
ATTACH:https://www.hinto.ch/de/events/smartphone-finger-massage-31-05-2026-1500-kueefer-martis-huus-ruggell-e2847535-20.html
END:VEVENT
END:VCALENDAR
