BEGIN:VCALENDAR
VERSION:2.0
PRODID:hinto.net
X-PUBLISHED-TTL:P1W
BEGIN:VEVENT
UID:hinto.net-event_show-6656723
DTSTART:20260616T083000
SEQUENCE:0
CREATED:20260125T112149
LAST-MODIFIED:20260125T112149
TRANSP:OPAQUE
DTEND:20260616T113000
LOCATION:St. Moritz Tourismus AG
SUMMARY:Sommermärkte im Engadin
CLASS:PUBLIC
DESCRIPTION:
ORGANIZER:
DTSTAMP:20260420T204510
ATTACH:https://www.hinto.ch/de/events/sommermaerkte-im-engadin-16-06-2026-0830-st-moritz-tourismus-ag-st-moritz-e2627399-20.html
END:VEVENT
END:VCALENDAR
