BEGIN:VCALENDAR
VERSION:2.0
PRODID:hinto.net
X-PUBLISHED-TTL:P1W
BEGIN:VEVENT
UID:hinto.net-event_show-6536878
DTSTART:20261004T143000
SEQUENCE:0
CREATED:20251217T155706
LAST-MODIFIED:20251217T155706
TRANSP:OPAQUE
DTEND:20261004T163000
LOCATION:Ristorante Cavallo Star
SUMMARY:Sonntags-Stammtisch
CLASS:PUBLIC
DESCRIPTION:
ORGANIZER:
DTSTAMP:20260424T074811
ATTACH:https://www.hinto.ch/de/events/sonntags-stammtisch-04-10-2026-1430-ristorante-cavallo-star-bern-e2524288-20.html
END:VEVENT
END:VCALENDAR
