BEGIN:VCALENDAR
VERSION:2.0
PRODID:hinto.net
X-PUBLISHED-TTL:P1W
BEGIN:VEVENT
UID:hinto.net-event_show-6536861
DTSTART:20260607T143000
SEQUENCE:0
CREATED:20251217T155422
LAST-MODIFIED:20251217T155422
TRANSP:OPAQUE
DTEND:20260607T163000
LOCATION:Ristorante Cavallo Star
SUMMARY:Sonntags-Stammtisch
CLASS:PUBLIC
DESCRIPTION:
ORGANIZER:
DTSTAMP:20260424T115416
ATTACH:https://www.hinto.ch/de/events/sonntags-stammtisch-07-06-2026-1430-ristorante-cavallo-star-bern-e2524271-20.html
END:VEVENT
END:VCALENDAR
