BEGIN:VCALENDAR
VERSION:2.0
PRODID:hinto.net
X-PUBLISHED-TTL:P1W
BEGIN:VEVENT
UID:hinto.net-event_show-6536879
DTSTART:20261011T143000
SEQUENCE:0
CREATED:20251217T155710
LAST-MODIFIED:20251217T155710
TRANSP:OPAQUE
DTEND:20261011T163000
LOCATION:Ristorante Cavallo Star
SUMMARY:Sonntags-Stammtisch
CLASS:PUBLIC
DESCRIPTION:
ORGANIZER:
DTSTAMP:20260424T053107
ATTACH:https://www.hinto.ch/de/events/sonntags-stammtisch-11-10-2026-1430-ristorante-cavallo-star-bern-e2524289-20.html
END:VEVENT
END:VCALENDAR
