BEGIN:VCALENDAR
VERSION:2.0
PRODID:hinto.net
X-PUBLISHED-TTL:P1W
BEGIN:VEVENT
UID:hinto.net-event_show-6536886
DTSTART:20261129T143000
SEQUENCE:0
CREATED:20251217T155911
LAST-MODIFIED:20251217T155911
TRANSP:OPAQUE
DTEND:20261129T163000
LOCATION:Ristorante Cavallo Star
SUMMARY:Sonntags-Stammtisch
CLASS:PUBLIC
DESCRIPTION:
ORGANIZER:
DTSTAMP:20260424T074826
ATTACH:https://www.hinto.ch/de/events/sonntags-stammtisch-29-11-2026-1430-ristorante-cavallo-star-bern-e2524296-20.html
END:VEVENT
END:VCALENDAR
