BEGIN:VCALENDAR
VERSION:2.0
PRODID:hinto.net
X-PUBLISHED-TTL:P1W
BEGIN:VEVENT
UID:hinto.net-event_show-6536873
DTSTART:20260830T143000
SEQUENCE:0
CREATED:20251217T155645
LAST-MODIFIED:20251217T155645
TRANSP:OPAQUE
DTEND:20260830T163000
LOCATION:Ristorante Cavallo Star
SUMMARY:Sonntags-Stammtisch
CLASS:PUBLIC
DESCRIPTION:
ORGANIZER:
DTSTAMP:20260424T061546
ATTACH:https://www.hinto.ch/de/events/sonntags-stammtisch-30-08-2026-1430-ristorante-cavallo-star-bern-e2524283-20.html
END:VEVENT
END:VCALENDAR
