BEGIN:VCALENDAR
VERSION:2.0
PRODID:hinto.net
X-PUBLISHED-TTL:P1W
BEGIN:VEVENT
UID:hinto.net-event_show-6898973
DTSTART:20260419T152500
SEQUENCE:0
CREATED:20260411T042908
LAST-MODIFIED:20260411T042908
TRANSP:OPAQUE
DTEND:20260419T162000
LOCATION:
SUMMARY:SRF 1: SRF bi de Lüt – Fitze übernimmt
CLASS:PUBLIC
DESCRIPTION:
ORGANIZER:
DTSTAMP:20260420T194058
ATTACH:https://www.hinto.ch/de/events/srf-1-srf-bi-de-luet-n-fitze-uebernimmt-19-04-2026-1525-e2824371-20.html
END:VEVENT
END:VCALENDAR
