BEGIN:VCALENDAR
VERSION:2.0
PRODID:hinto.net
X-PUBLISHED-TTL:P1W
BEGIN:VEVENT
UID:hinto.net-event_show-6925437
DTSTART:20260607T100000
SEQUENCE:0
CREATED:20260419T052223
LAST-MODIFIED:20260419T052223
TRANSP:OPAQUE

LOCATION:Casinotheater Winterthur
SUMMARY:Srf Persönlich
CLASS:PUBLIC
DESCRIPTION:
ORGANIZER:
DTSTAMP:20260420T225402
ATTACH:https://www.hinto.ch/de/events/srf-persoenlich-07-06-2026-1000-casinotheater-winterthur-winterthur-e2847501-20.html
END:VEVENT
END:VCALENDAR
