BEGIN:VCALENDAR
VERSION:2.0
PRODID:hinto.net
X-PUBLISHED-TTL:P1W
BEGIN:VEVENT
UID:hinto.net-event_show-6460609
DTSTART:20260529T193000
SEQUENCE:0
CREATED:20251121T015830
LAST-MODIFIED:20251121T015830
TRANSP:OPAQUE

LOCATION:Theater am Hechtplatz
SUMMARY:Starbugs Comedy
CLASS:PUBLIC
DESCRIPTION:
ORGANIZER:
DTSTAMP:20260421T063845
ATTACH:https://www.hinto.ch/de/events/starbugs-comedy-29-05-2026-1930-theater-am-hechtplatz-zuerich-e2458128-20.html
END:VEVENT
END:VCALENDAR
