BEGIN:VCALENDAR
VERSION:2.0
PRODID:hinto.net
X-PUBLISHED-TTL:P1W
BEGIN:VEVENT
UID:hinto.net-event_show-6460349
DTSTART:20260521T200000
SEQUENCE:0
CREATED:20251120T075616
LAST-MODIFIED:20251120T075616
TRANSP:OPAQUE
DTEND:20260521T000000
LOCATION:Fauteuil
SUMMARY:Stefan Büsser - Über-Lebt
CLASS:PUBLIC
DESCRIPTION:
ORGANIZER:
DTSTAMP:20260419T233127
ATTACH:https://www.hinto.ch/de/events/stefan-buesser-ueber-lebt-21-05-2026-2000-fauteuil-basel-e2457998-20.html
END:VEVENT
END:VCALENDAR
