BEGIN:VCALENDAR
VERSION:2.0
PRODID:hinto.net
X-PUBLISHED-TTL:P1W
BEGIN:VEVENT
UID:hinto.net-event_show-6925423
DTSTART:20260508T230000
SEQUENCE:0
CREATED:20260419T052216
LAST-MODIFIED:20260419T052216
TRANSP:OPAQUE
DTEND:20260508T060000
LOCATION:Albani
SUMMARY:Steibi Fm: Dj Patmeister
CLASS:PUBLIC
DESCRIPTION:
ORGANIZER:
DTSTAMP:20260421T004150
ATTACH:https://www.hinto.ch/de/events/steibi-fm-dj-patmeister-08-05-2026-2300-albani-winterthur-e2847487-20.html
END:VEVENT
END:VCALENDAR
