BEGIN:VCALENDAR
VERSION:2.0
PRODID:hinto.net
X-PUBLISHED-TTL:P1W
BEGIN:VEVENT
UID:hinto.net-event_show-6628421
DTSTART:20260423T180000
SEQUENCE:0
CREATED:20260116T191809
LAST-MODIFIED:20260116T191809
TRANSP:OPAQUE
DTEND:20260423T235900
LOCATION:raedli
SUMMARY:SUBSET: Next Generation (free entry)
CLASS:PUBLIC
DESCRIPTION:
ORGANIZER:
DTSTAMP:20260424T090341
ATTACH:https://www.hinto.ch/de/events/subset-next-generation-(free-entry)-23-04-2026-1800-raedli-zuerich-e2606331-20.html
END:VEVENT
END:VCALENDAR
