BEGIN:VCALENDAR
VERSION:2.0
PRODID:hinto.net
X-PUBLISHED-TTL:P1W
BEGIN:VEVENT
UID:hinto.net-event_show-6863664
DTSTART:20260419T152000
SEQUENCE:0
CREATED:20260418T065313
LAST-MODIFIED:20260418T065313
TRANSP:OPAQUE
DTEND:20260419T152500
LOCATION:
SUMMARY:Super RTL: Lana Longbeard
CLASS:PUBLIC
DESCRIPTION:
ORGANIZER:
DTSTAMP:20260419T225923
ATTACH:https://www.hinto.ch/de/events/super-rtl-lana-longbeard-19-04-2026-1520-e2794280-20.html
END:VEVENT
END:VCALENDAR
