BEGIN:VCALENDAR
VERSION:2.0
PRODID:hinto.net
X-PUBLISHED-TTL:P1W
BEGIN:VEVENT
UID:hinto.net-event_show-6863666
DTSTART:20260419T154500
SEQUENCE:0
CREATED:20260329T155533
LAST-MODIFIED:20260329T155533
TRANSP:OPAQUE
DTEND:20260419T160500
LOCATION:
SUMMARY:Super RTL: Lana Longbeard
CLASS:PUBLIC
DESCRIPTION:
ORGANIZER:
DTSTAMP:20260419T205819
ATTACH:https://www.hinto.ch/de/events/super-rtl-lana-longbeard-19-04-2026-1545-e2794282-20.html
END:VEVENT
END:VCALENDAR
