BEGIN:VCALENDAR
VERSION:2.0
PRODID:hinto.net
X-PUBLISHED-TTL:P1W
BEGIN:VEVENT
UID:hinto.net-event_show-6863667
DTSTART:20260419T160500
SEQUENCE:0
CREATED:20260329T155534
LAST-MODIFIED:20260329T155534
TRANSP:OPAQUE
DTEND:20260419T161500
LOCATION:
SUMMARY:Super RTL: SpongeBob Schwammkopf
CLASS:PUBLIC
DESCRIPTION:
ORGANIZER:
DTSTAMP:20260419T230132
ATTACH:https://www.hinto.ch/de/events/super-rtl-spongebob-schwammkopf-19-04-2026-1605-e2794283-20.html
END:VEVENT
END:VCALENDAR
