BEGIN:VCALENDAR
VERSION:2.0
PRODID:hinto.net
X-PUBLISHED-TTL:P1W
BEGIN:VEVENT
UID:hinto.net-event_show-6863669
DTSTART:20260419T163500
SEQUENCE:0
CREATED:20260329T155536
LAST-MODIFIED:20260329T155536
TRANSP:OPAQUE
DTEND:20260419T164500
LOCATION:
SUMMARY:Super RTL: SpongeBob Schwammkopf
CLASS:PUBLIC
DESCRIPTION:
ORGANIZER:
DTSTAMP:20260419T234126
ATTACH:https://www.hinto.ch/de/events/super-rtl-spongebob-schwammkopf-19-04-2026-1635-e2794285-20.html
END:VEVENT
END:VCALENDAR
