BEGIN:VCALENDAR
VERSION:2.0
PRODID:hinto.net
X-PUBLISHED-TTL:P1W
BEGIN:VEVENT
UID:hinto.net-event_show-6691335
DTSTART:20261126T200000
SEQUENCE:0
CREATED:20260206T053837
LAST-MODIFIED:20260206T053837
TRANSP:OPAQUE
DTEND:20261126T000000
LOCATION:Fauteuil
SUMMARY:Sven Ivanic & Jozo Brica - da&dunne
CLASS:PUBLIC
DESCRIPTION:
ORGANIZER:
DTSTAMP:20260421T034509
ATTACH:https://www.hinto.ch/de/events/sven-ivanic-jozo-brica-dadunne-26-11-2026-2000-fauteuil-basel-e2658584-20.html
END:VEVENT
END:VCALENDAR
