BEGIN:VCALENDAR
VERSION:2.0
PRODID:hinto.net
X-PUBLISHED-TTL:P1W
BEGIN:VEVENT
UID:hinto.net-event_show-6863727
DTSTART:20260419T153000
SEQUENCE:0
CREATED:20260329T155719
LAST-MODIFIED:20260329T155719
TRANSP:OPAQUE
DTEND:20260419T161500
LOCATION:
SUMMARY:SWR: Raus aufs Land - Südwest
CLASS:PUBLIC
DESCRIPTION:
ORGANIZER:
DTSTAMP:20260419T232328
ATTACH:https://www.hinto.ch/de/events/swr-raus-aufs-land-suedwest-19-04-2026-1530-e2794343-20.html
END:VEVENT
END:VCALENDAR
