BEGIN:VCALENDAR
VERSION:2.0
PRODID:hinto.net
X-PUBLISHED-TTL:P1W
BEGIN:VEVENT
UID:hinto.net-event_show-6807068
DTSTART:20260417T210000
SEQUENCE:0
CREATED:20260311T051354
LAST-MODIFIED:20260311T051354
TRANSP:OPAQUE

LOCATION:Meck à Frick
SUMMARY:Taco
CLASS:PUBLIC
DESCRIPTION:
ORGANIZER:
DTSTAMP:20260421T004343
ATTACH:https://www.hinto.ch/de/events/taco-17-04-2026-2100-meck-a-frick-frick-e2746828-20.html
END:VEVENT
END:VCALENDAR
