BEGIN:VCALENDAR
VERSION:2.0
PRODID:hinto.net
X-PUBLISHED-TTL:P1W
BEGIN:VEVENT
UID:hinto.net-event_show-6827325
DTSTART:20270131T000000
SEQUENCE:0
CREATED:20260318T052959
LAST-MODIFIED:20260318T052959
TRANSP:OPAQUE

LOCATION:Spielzeug Welten Museum Basel
SUMMARY:Teddy-Treffer-Bude
CLASS:PUBLIC
DESCRIPTION:
ORGANIZER:
DTSTAMP:20260421T070159
ATTACH:https://www.hinto.ch/de/events/teddy-treffer-bude-31-01-2027-0000-spielzeug-welten-museum-basel-basel-e2763196-20.html
END:VEVENT
END:VCALENDAR
