BEGIN:VCALENDAR
VERSION:2.0
PRODID:hinto.net
X-PUBLISHED-TTL:P1W
BEGIN:VEVENT
UID:hinto.net-event_show-6671249
DTSTART:20261115T160000
SEQUENCE:0
CREATED:20260129T162244
LAST-MODIFIED:20260129T162244
TRANSP:OPAQUE
DTEND:20261115T180000
LOCATION:Atelier 9 - Kirchgemeinde Frieden Heiliggeist
SUMMARY:Teezeitlektüre
CLASS:PUBLIC
DESCRIPTION:
ORGANIZER:
DTSTAMP:20260425T022717
ATTACH:https://www.hinto.ch/de/events/teezeitlektuere-15-11-2026-1600-atelier-9-kirchgemeinde-frieden-heiliggeist-bern-e2640625-20.html
END:VEVENT
END:VCALENDAR
