BEGIN:VCALENDAR
VERSION:2.0
PRODID:hinto.net
X-PUBLISHED-TTL:P1W
BEGIN:VEVENT
UID:hinto.net-event_show-6671247
DTSTART:20260927T160000
SEQUENCE:0
CREATED:20260129T162124
LAST-MODIFIED:20260129T162124
TRANSP:OPAQUE
DTEND:20260927T180000
LOCATION:Atelier 9 - Kirchgemeinde Frieden Heiliggeist
SUMMARY:Teezeitlektüre
CLASS:PUBLIC
DESCRIPTION:
ORGANIZER:
DTSTAMP:20260424T171259
ATTACH:https://www.hinto.ch/de/events/teezeitlektuere-27-09-2026-1600-atelier-9-kirchgemeinde-frieden-heiliggeist-bern-e2640623-20.html
END:VEVENT
END:VCALENDAR
