BEGIN:VCALENDAR
VERSION:2.0
PRODID:hinto.net
X-PUBLISHED-TTL:P1W
BEGIN:VEVENT
UID:hinto.net-event_show-6853378
DTSTART:20260417T000000
SEQUENCE:0
CREATED:20260326T190807
LAST-MODIFIED:20260326T190807
TRANSP:OPAQUE
DTEND:20260417T002000
LOCATION:
SUMMARY:Tele Bärn: TeleBärn News
CLASS:PUBLIC
DESCRIPTION:
ORGANIZER:
DTSTAMP:20260419T232214
ATTACH:https://www.hinto.ch/de/events/tele-baern-telebaern-news-17-04-2026-0000-e2785257-20.html
END:VEVENT
END:VCALENDAR
