BEGIN:VCALENDAR
VERSION:2.0
PRODID:hinto.net
X-PUBLISHED-TTL:P1W
BEGIN:VEVENT
UID:hinto.net-event_show-6859994
DTSTART:20260419T000000
SEQUENCE:0
CREATED:20260328T060104
LAST-MODIFIED:20260328T060104
TRANSP:OPAQUE
DTEND:20260419T002000
LOCATION:
SUMMARY:Tele Bärn: TeleBärn News
CLASS:PUBLIC
DESCRIPTION:
ORGANIZER:
DTSTAMP:20260419T232751
ATTACH:https://www.hinto.ch/de/events/tele-baern-telebaern-news-19-04-2026-0000-e2791173-20.html
END:VEVENT
END:VCALENDAR
