BEGIN:VCALENDAR
VERSION:2.0
PRODID:hinto.net
X-PUBLISHED-TTL:P1W
BEGIN:VEVENT
UID:hinto.net-event_show-6863433
DTSTART:20260419T121500
SEQUENCE:0
CREATED:20260329T154542
LAST-MODIFIED:20260329T154542
TRANSP:OPAQUE
DTEND:20260419T123000
LOCATION:
SUMMARY:Tele Basel: 360° Kultur
CLASS:PUBLIC
DESCRIPTION:
ORGANIZER:
DTSTAMP:20260420T090808
ATTACH:https://www.hinto.ch/de/events/tele-basel-360d-kultur-19-04-2026-1215-e2794049-20.html
END:VEVENT
END:VCALENDAR
