BEGIN:VCALENDAR
VERSION:2.0
PRODID:hinto.net
X-PUBLISHED-TTL:P1W
BEGIN:VEVENT
UID:hinto.net-event_show-6863460
DTSTART:20260419T190000
SEQUENCE:0
CREATED:20260329T154602
LAST-MODIFIED:20260329T154602
TRANSP:OPAQUE
DTEND:20260419T191300
LOCATION:
SUMMARY:Tele Basel: punkt6
CLASS:PUBLIC
DESCRIPTION:
ORGANIZER:
DTSTAMP:20260420T084605
ATTACH:https://www.hinto.ch/de/events/tele-basel-punkt6-19-04-2026-1900-e2794076-20.html
END:VEVENT
END:VCALENDAR
