BEGIN:VCALENDAR
VERSION:2.0
PRODID:hinto.net
X-PUBLISHED-TTL:P1W
BEGIN:VEVENT
UID:hinto.net-event_show-6853574
DTSTART:20260417T000000
SEQUENCE:0
CREATED:20260326T192151
LAST-MODIFIED:20260326T192151
TRANSP:OPAQUE
DTEND:20260417T002000
LOCATION:
SUMMARY:Tele Südostschweiz: Rondo News
CLASS:PUBLIC
DESCRIPTION:
ORGANIZER:
DTSTAMP:20260424T042322
ATTACH:https://www.hinto.ch/de/events/tele-suedostschweiz-rondo-news-17-04-2026-0000-e2785453-20.html
END:VEVENT
END:VCALENDAR
