BEGIN:VCALENDAR
VERSION:2.0
PRODID:hinto.net
X-PUBLISHED-TTL:P1W
BEGIN:VEVENT
UID:hinto.net-event_show-6863591
DTSTART:20260419T153000
SEQUENCE:0
CREATED:20260329T155050
LAST-MODIFIED:20260329T155050
TRANSP:OPAQUE
DTEND:20260419T160000
LOCATION:
SUMMARY:Tele Top: MediaShop - Immer etwas Neues
CLASS:PUBLIC
DESCRIPTION:
ORGANIZER:
DTSTAMP:20260420T174635
ATTACH:https://www.hinto.ch/de/events/tele-top-mediashop-immer-etwas-neues-19-04-2026-1530-e2794207-20.html
END:VEVENT
END:VCALENDAR
