BEGIN:VCALENDAR
VERSION:2.0
PRODID:hinto.net
X-PUBLISHED-TTL:P1W
BEGIN:VEVENT
UID:hinto.net-event_show-6863590
DTSTART:20260419T150000
SEQUENCE:0
CREATED:20260329T155049
LAST-MODIFIED:20260329T155049
TRANSP:OPAQUE
DTEND:20260419T153000
LOCATION:
SUMMARY:Tele Top: Schlagertalk
CLASS:PUBLIC
DESCRIPTION:
ORGANIZER:
DTSTAMP:20260419T191842
ATTACH:https://www.hinto.ch/de/events/tele-top-schlagertalk-19-04-2026-1500-e2794206-20.html
END:VEVENT
END:VCALENDAR
