BEGIN:VCALENDAR
VERSION:2.0
PRODID:hinto.net
X-PUBLISHED-TTL:P1W
BEGIN:VEVENT
UID:hinto.net-event_show-6857390
DTSTART:20260417T180000
SEQUENCE:0
CREATED:20260328T000549
LAST-MODIFIED:20260328T000549
TRANSP:OPAQUE
DTEND:20260417T181600
LOCATION:
SUMMARY:Tele Top: Top News
CLASS:PUBLIC
DESCRIPTION:
ORGANIZER:
DTSTAMP:20260419T222223
ATTACH:https://www.hinto.ch/de/events/tele-top-top-news-17-04-2026-1800-e2788569-20.html
END:VEVENT
END:VCALENDAR
