BEGIN:VCALENDAR
VERSION:2.0
PRODID:hinto.net
X-PUBLISHED-TTL:P1W
BEGIN:VEVENT
UID:hinto.net-event_show-6863059
DTSTART:20260419T152000
SEQUENCE:0
CREATED:20260329T152418
LAST-MODIFIED:20260329T152418
TRANSP:OPAQUE
DTEND:20260419T153000
LOCATION:
SUMMARY:Tele Züri: CheckUp
CLASS:PUBLIC
DESCRIPTION:
ORGANIZER:
DTSTAMP:20260420T072504
ATTACH:https://www.hinto.ch/de/events/tele-zueri-checkup-19-04-2026-1520-e2793675-20.html
END:VEVENT
END:VCALENDAR
