BEGIN:VCALENDAR
VERSION:2.0
PRODID:hinto.net
X-PUBLISHED-TTL:P1W
BEGIN:VEVENT
UID:hinto.net-event_show-6859678
DTSTART:20260419T000000
SEQUENCE:0
CREATED:20260416T215457
LAST-MODIFIED:20260416T215457
TRANSP:OPAQUE
DTEND:20260419T001500
LOCATION:
SUMMARY:Tele Züri: ZüriNews
CLASS:PUBLIC
DESCRIPTION:
ORGANIZER:
DTSTAMP:20260424T133301
ATTACH:https://www.hinto.ch/de/events/tele-zueri-zuerinews-19-04-2026-0000-e2790857-20.html
END:VEVENT
END:VCALENDAR
