BEGIN:VCALENDAR
VERSION:2.0
PRODID:hinto.net
X-PUBLISHED-TTL:P1W
BEGIN:VEVENT
UID:hinto.net-event_show-6924816
DTSTART:20260517T000000
SEQUENCE:0
CREATED:20260419T051910
LAST-MODIFIED:20260419T051910
TRANSP:OPAQUE

LOCATION:Alte Fabrik Rapperswil
SUMMARY:TEXTILE DIARIES
CLASS:PUBLIC
DESCRIPTION:
ORGANIZER:
DTSTAMP:20260421T102832
ATTACH:https://www.hinto.ch/de/events/textile-diaries-17-05-2026-0000-alte-fabrik-rapperswil-rapperswil-sg-e2847158-20.html
END:VEVENT
END:VCALENDAR
