BEGIN:VCALENDAR
VERSION:2.0
PRODID:hinto.net
X-PUBLISHED-TTL:P1W
BEGIN:VEVENT
UID:hinto.net-event_show-6823196
DTSTART:20260417T120000
SEQUENCE:0
CREATED:20260317T043738
LAST-MODIFIED:20260317T043738
TRANSP:OPAQUE
DTEND:20260417T123000
LOCATION:Theodorskirche
SUMMARY:Tue meine Lippen auf
CLASS:PUBLIC
DESCRIPTION:
ORGANIZER:
DTSTAMP:20260421T095353
ATTACH:https://www.hinto.ch/de/events/tue-meine-lippen-auf-17-04-2026-1200-theodorskirche-basel-e2580298-20.html
END:VEVENT
END:VCALENDAR
