BEGIN:VCALENDAR
VERSION:2.0
PRODID:hinto.net
X-PUBLISHED-TTL:P1W
BEGIN:VEVENT
UID:hinto.net-event_show-6887054
DTSTART:20260417T000000
SEQUENCE:0
CREATED:20260406T183447
LAST-MODIFIED:20260406T183447
TRANSP:OPAQUE
DTEND:20260417T003000
LOCATION:
SUMMARY:TV24: Storage Wars - Geschäfte in Kanada
CLASS:PUBLIC
DESCRIPTION:
ORGANIZER:
DTSTAMP:20260419T181917
ATTACH:https://www.hinto.ch/de/events/tv24-storage-wars-geschaefte-in-kanada-17-04-2026-0000-e2813474-20.html
END:VEVENT
END:VCALENDAR
