BEGIN:VCALENDAR
VERSION:2.0
PRODID:hinto.net
X-PUBLISHED-TTL:P1W
BEGIN:VEVENT
UID:hinto.net-event_show-6863291
DTSTART:20260419T200000
SEQUENCE:0
CREATED:20260419T135300
LAST-MODIFIED:20260419T135300
TRANSP:OPAQUE
DTEND:20260419T202000
LOCATION:
SUMMARY:TVO Tele Ostschweiz: Aktuell
CLASS:PUBLIC
DESCRIPTION:
ORGANIZER:
DTSTAMP:20260420T165959
ATTACH:https://www.hinto.ch/de/events/tvo-tele-ostschweiz-aktuell-19-04-2026-2000-e2793907-20.html
END:VEVENT
END:VCALENDAR
