BEGIN:VCALENDAR
VERSION:2.0
PRODID:hinto.net
X-PUBLISHED-TTL:P1W
BEGIN:VEVENT
UID:hinto.net-event_show-6925351
DTSTART:20260523T170000
SEQUENCE:0
CREATED:20260419T052159
LAST-MODIFIED:20260419T052159
TRANSP:OPAQUE

LOCATION:Jüdisches Museum
SUMMARY:Unterwegs
CLASS:PUBLIC
DESCRIPTION:
ORGANIZER:
DTSTAMP:20260421T102634
ATTACH:https://www.hinto.ch/de/events/unterwegs-23-05-2026-1700-juedisches-museum-hohenems-e2847430-20.html
END:VEVENT
END:VCALENDAR
